BEGIN:VCALENDAR
VERSION:2.0
PRODID:-//Tomball Bible Church - ECPv6.15.20//NONSGML v1.0//EN
CALSCALE:GREGORIAN
METHOD:PUBLISH
X-WR-CALNAME:Tomball Bible Church
X-ORIGINAL-URL:https://tomballbible.church
X-WR-CALDESC:Events for Tomball Bible Church
REFRESH-INTERVAL;VALUE=DURATION:PT1H
X-Robots-Tag:noindex
X-PUBLISHED-TTL:PT1H
BEGIN:VTIMEZONE
TZID:America/Chicago
BEGIN:DAYLIGHT
TZOFFSETFROM:-0600
TZOFFSETTO:-0500
TZNAME:CDT
DTSTART:20230312T080000
END:DAYLIGHT
BEGIN:STANDARD
TZOFFSETFROM:-0500
TZOFFSETTO:-0600
TZNAME:CST
DTSTART:20231105T070000
END:STANDARD
BEGIN:DAYLIGHT
TZOFFSETFROM:-0600
TZOFFSETTO:-0500
TZNAME:CDT
DTSTART:20240310T080000
END:DAYLIGHT
BEGIN:STANDARD
TZOFFSETFROM:-0500
TZOFFSETTO:-0600
TZNAME:CST
DTSTART:20241103T070000
END:STANDARD
BEGIN:DAYLIGHT
TZOFFSETFROM:-0600
TZOFFSETTO:-0500
TZNAME:CDT
DTSTART:20250309T080000
END:DAYLIGHT
BEGIN:STANDARD
TZOFFSETFROM:-0500
TZOFFSETTO:-0600
TZNAME:CST
DTSTART:20251102T070000
END:STANDARD
BEGIN:DAYLIGHT
TZOFFSETFROM:-0600
TZOFFSETTO:-0500
TZNAME:CDT
DTSTART:20260308T080000
END:DAYLIGHT
BEGIN:STANDARD
TZOFFSETFROM:-0500
TZOFFSETTO:-0600
TZNAME:CST
DTSTART:20261101T070000
END:STANDARD
END:VTIMEZONE
BEGIN:VEVENT
DTSTART;TZID=America/Chicago:20251012T140000
DTEND;TZID=America/Chicago:20251012T180000
DTSTAMP:20260421T050736
CREATED:20251002T182959Z
LAST-MODIFIED:20251002T183002Z
UID:10002715-1760277600-1760292000@tomballbible.church
SUMMARY:Tomball Praises Together
DESCRIPTION:Join us for an uplifting afternoon filled with live music\, fellowship\, and heartfelt praise as we come together to celebrate God’s love through song and community.  Joining us will be Wayne Watson\, Christian singer/songwriter. \n\n\n\nJoin us at this come go event at the Tomball Depot\, on Elm Street.  There is no cost to attend.
URL:https://tomballbible.church/event/tomball-praises-together/
CATEGORIES:Featured
ATTACH;FMTTYPE=image/jpeg:https://tomballbible.church/wp-content/uploads/2025/10/WEBTOMBALLPRAIS.jpg
END:VEVENT
BEGIN:VEVENT
DTSTART;TZID=America/Chicago:20251012T090000
DTEND;TZID=America/Chicago:20251012T100000
DTSTAMP:20260421T050736
CREATED:20250807T165627Z
LAST-MODIFIED:20250828T141841Z
UID:10002653-1760259600-1760263200@tomballbible.church
SUMMARY:Parenting Class
DESCRIPTION:“Parenting in the Present Age” is a 6-week course designed to help parents equip their children to impact the world around them. We will focus on the current culture and developing a biblical worldview of parenting. We recognize that as believers\, we are called to not withdraw from the culture but to use the gospel to engage our children at the heart level. \n\n\n\nRegistration is $20 per couple or $10 per individual\, and includes food and books. Registration for childcare is now closed\, as we have reached our capacity.  Registration for adults is still available:  \n\n\n\nRegister here!
URL:https://tomballbible.church/event/parenting-class/2025-10-12/
CATEGORIES:Featured
ATTACH;FMTTYPE=image/jpeg:https://tomballbible.church/wp-content/uploads/2025/08/web-parenting-in-the-present-age.jpg
END:VEVENT
BEGIN:VEVENT
DTSTART;TZID=America/Chicago:20251011T170000
DTEND;TZID=America/Chicago:20251011T200000
DTSTAMP:20260421T050736
CREATED:20250918T151207Z
LAST-MODIFIED:20250924T154115Z
UID:10002699-1760202000-1760212800@tomballbible.church
SUMMARY:Mission Dinner
DESCRIPTION:As we focus on missions this weekend\, join us for dinner and an opportunity to hear from some of our supported local ministry partners and missionaries. We’ll gather in the Student Center at 5:00 for dinner\, then transition to hearing from our speakers. \n\n\n\nPlease register to let us know you’ll be joining us and for childcare through Kindergarten.   \n\n\n\nRegister here.
URL:https://tomballbible.church/event/mission-dinner/
CATEGORIES:Featured
ATTACH;FMTTYPE=image/jpeg:https://tomballbible.church/wp-content/uploads/2025/09/WEBmissiondinne.jpg
END:VEVENT
BEGIN:VEVENT
DTSTART;TZID=America/Chicago:20250819T190000
DTEND;TZID=America/Chicago:20250819T203000
DTSTAMP:20260421T050736
CREATED:20250721T175902Z
LAST-MODIFIED:20250721T175907Z
UID:10002616-1755630000-1755635400@tomballbible.church
SUMMARY:Ladies' Fall Event
DESCRIPTION:Ladies\, come to the Student Center at 7:00 pm on Tuesday\, August 19th\, for our Fall Event.  We’ll enjoy some time together as we launch our fall calendar for Women’s Ministry.  The Fall Bible Study will be announced\, as well as dates given for the rest of our events.  More information will be coming\, so check back!
URL:https://tomballbible.church/event/ladies-fall-event-4/
CATEGORIES:Featured
ATTACH;FMTTYPE=image/jpeg:https://tomballbible.church/wp-content/uploads/2024/08/ladiesfallevent-web.jpg
END:VEVENT
BEGIN:VEVENT
DTSTART;TZID=America/Chicago:20250817T120000
DTEND;TZID=America/Chicago:20250817T150000
DTSTAMP:20260421T050736
CREATED:20250603T210631Z
LAST-MODIFIED:20250715T210727Z
UID:10002561-1755432000-1755442800@tomballbible.church
SUMMARY:Membership Class
DESCRIPTION:If you are considering membership at TBC\, we invite you to attend our Membership Class. We will walk through what membership looks like at TBC\, answer your questions\, and finalize your membership with a conversation with one of our Elders.  \n\n\n\nRegister to attend the class as well as for childcare through 5th grade here.
URL:https://tomballbible.church/event/membership-class-10/
CATEGORIES:Featured
ATTACH;FMTTYPE=image/jpeg:https://tomballbible.church/wp-content/uploads/2024/09/MEMBERSHIP-CLASS-WEB.jpg
END:VEVENT
BEGIN:VEVENT
DTSTART;TZID=America/Chicago:20250817T103000
DTEND;TZID=America/Chicago:20250817T120000
DTSTAMP:20260421T050736
CREATED:20250715T144729Z
LAST-MODIFIED:20250729T210318Z
UID:10002574-1755426600-1755432000@tomballbible.church
SUMMARY:Promotion Sunday
DESCRIPTION:Promotion Sunday is Here! \n\n\n\nToday\, all kids and students entering Kindergarten through 12th grade will promote to their new classes. \n\n\n\n \n\n\n\n\nKindergarten: Please drop them off in the Pre-K room in the Nursery. They’ll walk over to their new classroom as a group. After the service\, parents will pick them up in the Kindergarten room in the Kids Building.\n\n\n\n1st-6th Grade: Parents will drop them off in their new classrooms after checking them in Sunday morning.\n\n\n\n7-12th Grade: Incoming 7th graders will join the rest of the students for our 9am Student Equipping hour and then attend worship at 10:30am.
URL:https://tomballbible.church/event/promotion-sunday-4/
CATEGORIES:Featured
ATTACH;FMTTYPE=image/jpeg:https://tomballbible.church/wp-content/uploads/2024/08/web-promotion-sunday.jpg
END:VEVENT
BEGIN:VEVENT
DTSTART;TZID=America/Chicago:20250817T103000
DTEND;TZID=America/Chicago:20250817T120000
DTSTAMP:20260421T050736
CREATED:20250603T210952Z
LAST-MODIFIED:20250603T210959Z
UID:10002562-1755426600-1755432000@tomballbible.church
SUMMARY:Baptism
DESCRIPTION:If you or your child is interested in being baptized\, please complete the Interest Form.  Once it is submitted\, we’ll reach out to you to schedule a conversation with one of our Pastors or Ministry Directors.
URL:https://tomballbible.church/event/baptism-9/
CATEGORIES:Featured
ATTACH;FMTTYPE=image/jpeg:https://tomballbible.church/wp-content/uploads/2023/03/baptism-web-copy.jpg
END:VEVENT
BEGIN:VEVENT
DTSTART;TZID=America/Chicago:20250803T120000
DTEND;TZID=America/Chicago:20250803T140000
DTSTAMP:20260421T050736
CREATED:20250603T210135Z
LAST-MODIFIED:20250715T172127Z
UID:10002560-1754222400-1754229600@tomballbible.church
SUMMARY:Welcome Lunch
DESCRIPTION:If you are new to Tomball Bible Church\, please plan on joining us for our next Welcome Lunch.  We’ll meet in the Student Center immediately following worship and in addition to enjoying a meal together\,  you’ll have an opportunity to meet several of our staff and Elders.  David will give a brief introduction to TBC\, and you’ll have a chance to ask any questions you may have.  Childcare is available through Kindergarten; your older children will stay with you.   \n\n\n\nRegister to let us know you’ll be attending and to request childcare.
URL:https://tomballbible.church/event/welcome-lunch-13/
CATEGORIES:Featured
ATTACH;FMTTYPE=image/jpeg:https://tomballbible.church/wp-content/uploads/2024/12/WEB_welcomelunc.jpg
END:VEVENT
BEGIN:VEVENT
DTSTART;TZID=America/Chicago:20250802T083000
DTEND;TZID=America/Chicago:20250802T100000
DTSTAMP:20260421T050736
CREATED:20250714T180750Z
LAST-MODIFIED:20250721T185302Z
UID:10002572-1754123400-1754128800@tomballbible.church
SUMMARY:Ladies' Breakfast
DESCRIPTION:Ladies\, we would love for you to join us for breakfast on August 2 at 8:30am in the Student Center. It’ll be a morning to fellowship\, enjoy a meal together\, and make a craft. Daughters are welcome to come with their moms! \n\n\n\nRegister online here.
URL:https://tomballbible.church/event/ladies-breakfast-2/
CATEGORIES:Featured
ATTACH;FMTTYPE=image/jpeg:https://tomballbible.church/wp-content/uploads/2025/07/web-ladies-breakfast.jpg
END:VEVENT
BEGIN:VEVENT
DTSTART;TZID=America/Chicago:20250731T090000
DTEND;TZID=America/Chicago:20250731T100000
DTSTAMP:20260421T050736
CREATED:20250629T142732Z
LAST-MODIFIED:20250629T142737Z
UID:10002564-1753952400-1753956000@tomballbible.church
SUMMARY:Back to School Prayer Gathering
DESCRIPTION:Join us at Lanier Theological Library for a time dedicated to praying as our Tomball & Klein ISD students and teachers head back to school. This is a free gathering\, but Lanier requires a head count so tickets are required.  You can order your tickets below; space is limited and tickets will no longer be available after July 16th\, so don’t delay!  \n\n\n\nGet your free tickets here.
URL:https://tomballbible.church/event/back-to-school-prayer-gathering/
CATEGORIES:Featured
ATTACH;FMTTYPE=image/jpeg:https://tomballbible.church/wp-content/uploads/2025/06/web-back-to-school-prayer.jpg
END:VEVENT
BEGIN:VEVENT
DTSTART;TZID=America/Chicago:20250727T123000
DTEND;TZID=America/Chicago:20250727T140000
DTSTAMP:20260421T050736
CREATED:20250707T165402Z
LAST-MODIFIED:20250709T174211Z
UID:10002571-1753619400-1753624800@tomballbible.church
SUMMARY:Honduras Trip Recap Lunch
DESCRIPTION:Join us for lunch and an opportunity to hear from the Honduras team and celebrate all that God has done and is doing in Honduras. \n\n\n\nRegister here to help us know how much food to provide.
URL:https://tomballbible.church/event/honduras-trip-recap-lunch/
CATEGORIES:Featured
ATTACH;FMTTYPE=image/jpeg:https://tomballbible.church/wp-content/uploads/2025/07/webRECAPLUNCH.jpg
END:VEVENT
BEGIN:VEVENT
DTSTART;TZID=America/Chicago:20250714T000000
DTEND;TZID=America/Chicago:20250719T235959
DTSTAMP:20260421T050736
CREATED:20241009T162240Z
LAST-MODIFIED:20241009T162244Z
UID:10002299-1752451200-1752969599@tomballbible.church
SUMMARY:SWO Student Camp
DESCRIPTION:Students in 7th – 12th grades\, registration is now open for Snowbird Wilderness Outfitters Summer Camp 2025!  Trey will be taking the students to SWO again July 14-19\, 2025\, the cost is $550.  There are limited spaces available\, so complete the registration and make your $100 deposit to hold your spot.   Your student won’t want to miss this amazing week of being poured into by trained camp counselors as well as exciting outdoor activities.  If you have any questions\, contact Trey or Hannah. \n\n\n\nClick here to register.
URL:https://tomballbible.church/event/swo-student-camp/
CATEGORIES:Featured
ATTACH;FMTTYPE=image/png:https://tomballbible.church/wp-content/uploads/2024/10/Snowbird.png
END:VEVENT
BEGIN:VEVENT
DTSTART;TZID=America/Chicago:20250601T180000
DTEND;TZID=America/Chicago:20250601T193000
DTSTAMP:20260421T050736
CREATED:20250428T211056Z
LAST-MODIFIED:20250428T211059Z
UID:10002512-1748800800-1748806200@tomballbible.church
SUMMARY:Congregational Meeting
DESCRIPTION:Our bi-annual Congregational Meeting\, where the 2025-2026 budget will be presented\, and ministry updates available. \n\n\n\nRegister for childcare through 4th grade available\, register for that here.
URL:https://tomballbible.church/event/congregational-meeting-7/
CATEGORIES:Featured
ATTACH;FMTTYPE=image/jpeg:https://tomballbible.church/wp-content/uploads/2025/04/WEB-congregatio.jpg
END:VEVENT
BEGIN:VEVENT
DTSTART;TZID=America/Chicago:20250529T183000
DTEND;TZID=America/Chicago:20250529T203000
DTSTAMP:20260421T050736
CREATED:20250508T132523Z
LAST-MODIFIED:20250519T215221Z
UID:10002520-1748543400-1748550600@tomballbible.church
SUMMARY:Gal's Gathering
DESCRIPTION:Ladies\, join us for an evening of fellowship and worship on Thursday\, May 29th at 6:30. Limited childcare is available through 6th grade for those who need it. Girls in 9th-12th grade are invited to join us for this night of worship! \n\n\n\nPlease register for childcare here.
URL:https://tomballbible.church/event/gals-gathering/
CATEGORIES:Featured
ATTACH;FMTTYPE=image/jpeg:https://tomballbible.church/wp-content/uploads/2025/05/webgalsgatherin-1.jpg
END:VEVENT
BEGIN:VEVENT
DTSTART;TZID=America/Chicago:20250524T073000
DTEND;TZID=America/Chicago:20250524T093000
DTSTAMP:20260421T050736
CREATED:20250428T193820Z
LAST-MODIFIED:20250428T193842Z
UID:10002511-1748071800-1748079000@tomballbible.church
SUMMARY:Men's Breakfast
DESCRIPTION:Gentlemen\, head up to the Student Center at 7:30 on Saturday\, May 24th\, for our next Men of Resolve Breakfast.  You’ll enjoy a delicious breakfast and a time of encouragement. \n\n\n\nRegister here to let us know to expect you.
URL:https://tomballbible.church/event/mens-breakfast-9/
CATEGORIES:Featured
ATTACH;FMTTYPE=image/jpeg:https://tomballbible.church/wp-content/uploads/2025/01/mens-breakfastweb.jpg
END:VEVENT
BEGIN:VEVENT
DTSTART;TZID=America/Chicago:20250518T120000
DTEND;TZID=America/Chicago:20250518T150000
DTSTAMP:20260421T050736
CREATED:20240926T195113Z
LAST-MODIFIED:20250304T182812Z
UID:10002370-1747569600-1747580400@tomballbible.church
SUMMARY:Membership  Class
DESCRIPTION:If you are interested in membership at TBC\, please plan on attending this class.  David will walk you through our membership material\, which gives an overview of our history\, what we believe doctrinally and what we believe membership to be.  Childcare is provided through 5th grade\, and lunch is provided. \n\n\n\nRegister to attend here.
URL:https://tomballbible.church/event/membership-class-11/2025-05-18/
CATEGORIES:Featured
ATTACH;FMTTYPE=image/jpeg:https://tomballbible.church/wp-content/uploads/2024/09/MEMBERSHIP-CLASS-WEB.jpg
END:VEVENT
BEGIN:VEVENT
DTSTART;TZID=America/Chicago:20250511T103000
DTEND;TZID=America/Chicago:20250511T120000
DTSTAMP:20260421T050736
CREATED:20250416T221822Z
LAST-MODIFIED:20250416T221826Z
UID:10002505-1746959400-1746964800@tomballbible.church
SUMMARY:Child Dedication
DESCRIPTION:If you are interested in dedicating your child to the Lord on Mother’s Day this year\, please complete the Dedication Request Form below.   \n\n\n\nChild Dedication Request Form
URL:https://tomballbible.church/event/child-dedication-5/
CATEGORIES:Featured
ATTACH;FMTTYPE=image/jpeg:https://tomballbible.church/wp-content/uploads/2025/04/website_ChildDedica.jpg
END:VEVENT
BEGIN:VEVENT
DTSTART;TZID=America/Chicago:20250509T180000
DTEND;TZID=America/Chicago:20250509T210000
DTSTAMP:20260421T050736
CREATED:20250416T221333Z
LAST-MODIFIED:20250416T221339Z
UID:10002504-1746813600-1746824400@tomballbible.church
SUMMARY:Parent's Night Out
DESCRIPTION:Help support the students and adults traveling to Honduras in June and take advantage of a night out at the same time!  Our Honduras team will be providing a Parent’s Night Out from 6-9 pm\, on Friday\, May 9th.  Dinner is not served\, so please feed them before your children arrive.  A light snack will be provided. \n\n\n\nRegister here!
URL:https://tomballbible.church/event/parents-night-out-2/
CATEGORIES:Featured
ATTACH;FMTTYPE=image/jpeg:https://tomballbible.church/wp-content/uploads/2025/04/webParentsNight.jpg
END:VEVENT
BEGIN:VEVENT
DTSTART;TZID=America/Chicago:20250504T103000
DTEND;TZID=America/Chicago:20250504T120000
DTSTAMP:20260421T050736
CREATED:20250428T175259Z
LAST-MODIFIED:20250428T175305Z
UID:10002510-1746354600-1746360000@tomballbible.church
SUMMARY:Baptism
DESCRIPTION:If you\, or your child\, are interested in being baptized\, please take a moment and complete the Baptism Interest Form below.  After you have completed it\, we’ll be in touch to set up a time for a conversation with Pastor or Ministry Leader. \n\n\n\nBaptism Interest Form
URL:https://tomballbible.church/event/baptism-8/
CATEGORIES:Featured
ATTACH;FMTTYPE=image/jpeg:https://tomballbible.church/wp-content/uploads/2023/03/baptism-web-copy.jpg
END:VEVENT
BEGIN:VEVENT
DTSTART;TZID=America/Chicago:20250427T120000
DTEND;TZID=America/Chicago:20250427T133000
DTSTAMP:20260421T050736
CREATED:20250403T222610Z
LAST-MODIFIED:20250403T222614Z
UID:10002503-1745755200-1745760600@tomballbible.church
SUMMARY:Welcome Lunch
DESCRIPTION:If you are new to TBC\, please join us for our next Welcome Lunch\, immediately following worship on Sunday\, April 27th.  We’ll meet in the Student Center\, and you’ll have an opportunity to meet some of our staff and Elders\, hear a brief bit of information about the ministries of TBC\, and ask any questions you may have.  Childcare is available through Kindergarten\, your older children will stay with you throughout our time together. \n\n\n\nRegister to attend here.
URL:https://tomballbible.church/event/welcome-lunch-12/
CATEGORIES:Featured
ATTACH;FMTTYPE=image/jpeg:https://tomballbible.church/wp-content/uploads/2024/06/WEB_welcomelunc.jpg
END:VEVENT
BEGIN:VEVENT
DTSTART;TZID=America/Chicago:20250420T104500
DTEND;TZID=America/Chicago:20250420T120000
DTSTAMP:20260421T050736
CREATED:20250403T222148Z
LAST-MODIFIED:20250403T222152Z
UID:10002502-1745145900-1745150400@tomballbible.church
SUMMARY:Easter Worship
DESCRIPTION:Come celebrate the risen Savior with us at one of 3 services: \n\n\n\n7:00 Sunrise Service (weather permitting) outdoors\, no nursery or childcare available \n\n\n\n9:00 Worship\, Nursery care available \n\n\n\n10:45 Worship\, Nursery and Kids Ministry available
URL:https://tomballbible.church/event/easter-worship-2/2025-04-20/3/
CATEGORIES:Featured
ATTACH;FMTTYPE=image/jpeg:https://tomballbible.church/wp-content/uploads/2025/04/web-believing-is-seeing.jpg
END:VEVENT
BEGIN:VEVENT
DTSTART;TZID=America/Chicago:20250418T190000
DTEND;TZID=America/Chicago:20250418T200000
DTSTAMP:20260421T050736
CREATED:20250403T221606Z
LAST-MODIFIED:20250403T221638Z
UID:10002499-1745002800-1745006400@tomballbible.church
SUMMARY:Good Friday Service
DESCRIPTION:We will remember the sacrifice Christ made on the cross at our Good Friday Worship Service.  Join us at 7:00 in the Worship Center.  Nursery care is available\, please register for that.  Your older children will participate in the service with you. \n\n\n\n \n\n\n\nRegister for Nursery care here.
URL:https://tomballbible.church/event/good-friday-service-2/
CATEGORIES:Featured
ATTACH;FMTTYPE=image/jpeg:https://tomballbible.church/wp-content/uploads/2025/04/good-friday-web.jpg
END:VEVENT
BEGIN:VEVENT
DTSTART;TZID=America/Chicago:20250412T160000
DTEND;TZID=America/Chicago:20250412T180000
DTSTAMP:20260421T050736
CREATED:20250313T145607Z
LAST-MODIFIED:20250313T145611Z
UID:10002492-1744473600-1744480800@tomballbible.church
SUMMARY:Mother Son Nerf War
DESCRIPTION:Mom\, grab your nerf guns and darts and prepare for battle with your son!  The Mother Son Nerf War will be  Saturday\, April 12th\, from 4:00-6:00 pm in the Kids Building. The cost is $5.00 per person. \n\n\n\nAfterwards\, we will eat pizza and dessert.  We cannot wait for this fun event!! \n\n\n\nRegister here!
URL:https://tomballbible.church/event/mother-son-nerf-war/
CATEGORIES:Featured
ATTACH;FMTTYPE=image/jpeg:https://tomballbible.church/wp-content/uploads/2025/03/webNerfWar.jpg
END:VEVENT
BEGIN:VEVENT
DTSTART;TZID=America/Chicago:20250412T073000
DTEND;TZID=America/Chicago:20250412T090000
DTSTAMP:20260421T050736
CREATED:20250403T221046Z
LAST-MODIFIED:20250403T221051Z
UID:10002498-1744443000-1744448400@tomballbible.church
SUMMARY:Men's Breakfast
DESCRIPTION:Gentlemen\, join us for our next Men of Resolve Breakfast on Saturday\, April 12\, at 7:30 in the Student Center. \n\n\n\nRegister to let us know you’re coming here.
URL:https://tomballbible.church/event/mens-breakfast-8/
CATEGORIES:Featured
ATTACH;FMTTYPE=image/jpeg:https://tomballbible.church/wp-content/uploads/2025/01/mens-breakfastweb.jpg
END:VEVENT
BEGIN:VEVENT
DTSTART;TZID=America/Chicago:20250404T163000
DTEND;TZID=America/Chicago:20250406T120000
DTSTAMP:20260421T050736
CREATED:20250219T210803Z
LAST-MODIFIED:20250304T180738Z
UID:10002473-1743784200-1743940800@tomballbible.church
SUMMARY:Ladies' Retreat
DESCRIPTION:“10 so that you may walk worthy of the Lord\, fully pleasing to him: bearing fruit in every good work and growing in the knowledge of God\, 11 being strengthened with all power\, according to his glorious might”. To walk worthy of the Lord you must rely upon God’s strength\, not your own.”Colossians 2:10-11 \n\n\n\nOur theme for the Ladies’ Retreat this year is Walk Worthy – and this weekend we will have teaching\, worship\, small groups\, and outdoor recreational activities. The cost for the weekend is $140. \n\n\n\nRegister here.
URL:https://tomballbible.church/event/ladies-retreat-4/
CATEGORIES:Featured
ATTACH;FMTTYPE=image/jpeg:https://tomballbible.church/wp-content/uploads/2025/02/webwalk-worthly-1.jpg
END:VEVENT
BEGIN:VEVENT
DTSTART;TZID=America/Chicago:20250402T190000
DTEND;TZID=America/Chicago:20250402T200000
DTSTAMP:20260421T050736
CREATED:20250320T191954Z
LAST-MODIFIED:20250320T191957Z
UID:10002497-1743620400-1743624000@tomballbible.church
SUMMARY:Awaken Houston
DESCRIPTION:Join us on as we pray for the salvation of many within the Houston community  at this Awaken Houston Prayer event.  We will meet at 7:00 at Faithbridge Church\, 18000 Stuebner Airline Rd\, Spring\, TX 77379\, at 7:00.  No childcare is provided.   \n\n\n\nPlease let the organizers know you’re coming by registering here. \n\n\n\nThere will be no student ministry this evening\, so our leaders and students may attend the prayer event.
URL:https://tomballbible.church/event/awaken-houston/
CATEGORIES:Featured
ATTACH;FMTTYPE=image/jpeg:https://tomballbible.church/wp-content/uploads/2025/03/webAwakenHousto.jpg
END:VEVENT
BEGIN:VEVENT
DTSTART;TZID=America/Chicago:20250330T103000
DTEND;TZID=America/Chicago:20250330T140000
DTSTAMP:20260421T050736
CREATED:20250304T183903Z
LAST-MODIFIED:20250304T184020Z
UID:10002477-1743330600-1743343200@tomballbible.church
SUMMARY:50th Anniversary Celebration
DESCRIPTION:Join us as we celebrate God’s faithfulness to TBC over the past 50 years\, and we look to the future for what He will continue to do!   \n\n\n\nWe’ll enjoy family worship\, communion\, some special surprises\, and one of our former Pastors\, Jack Arrington\, will share from the Word.   \n\n\n\nFollowing worship\, we’ll head outside to the big tent to enjoy a delicious BBQ lunch catered by Rib Tickler\, outdoor games\, and inflatables.   \n\n\n\nCheck out tbc50years.com for all the information\, a place to let us know you’ll be coming\, upload some of your favorite photos\, and volunteer to serve.
URL:https://tomballbible.church/event/50th-anniversary-celebration/
CATEGORIES:Featured
ATTACH;FMTTYPE=image/jpeg:https://tomballbible.church/wp-content/uploads/2025/03/WEB.jpg
END:VEVENT
BEGIN:VEVENT
DTSTART;TZID=America/Chicago:20250321T170000
DTEND;TZID=America/Chicago:20250323T120000
DTSTAMP:20260421T050736
CREATED:20250213T171052Z
LAST-MODIFIED:20250304T180321Z
UID:10002459-1742576400-1742731200@tomballbible.church
SUMMARY:Men's Retreat
DESCRIPTION:This year’s Men’s Retreat will be held at Frontier Camp\, and we’ll be going through Titus – focusing on how to be men who go against the grain of our cultural norms.  Join us for a chance to rest\, recharge\, and enjoy some skeet shooting\, laser tag\, a ropes course\, and much more! \n\n\n\nThe cost of the retreat is $140\, which includes 5 meals\, lodging\, and a t-shirt.  If cost is a concern\, please don’t let that stop you from attending – scholarships are available. \n\n\n\nRegister here!
URL:https://tomballbible.church/event/mens-retreat-2/
CATEGORIES:Featured
ATTACH;FMTTYPE=image/jpeg:https://tomballbible.church/wp-content/uploads/2025/02/web.jpg
END:VEVENT
BEGIN:VEVENT
DTSTART;TZID=America/Chicago:20250215T083000
DTEND;TZID=America/Chicago:20250215T120000
DTSTAMP:20260421T050736
CREATED:20241210T200434Z
LAST-MODIFIED:20241210T221633Z
UID:10002346-1739608200-1739620800@tomballbible.church
SUMMARY:GO Training
DESCRIPTION:If you have a heart for the nations\, and for sharing the love of Christ with the lost\, join us each month for GO Training.  We’ll meet at 8:30 am in the Student Center for a time of training\, and then go sow the seeds of the Gospel.  After\, we’ll return to the church to share what the Lord did while we were out.  We’ll be done for the morning by noon.
URL:https://tomballbible.church/event/go-training-4/2025-02-15/
CATEGORIES:Featured
ATTACH;FMTTYPE=image/jpeg:https://tomballbible.church/wp-content/uploads/2024/03/Web_Go-Training.jpg
END:VEVENT
BEGIN:VEVENT
DTSTART;TZID=America/Chicago:20241123T073000
DTEND;TZID=America/Chicago:20241123T090000
DTSTAMP:20260421T050736
CREATED:20241023T210148Z
LAST-MODIFIED:20241023T210153Z
UID:10001796-1732347000-1732352400@tomballbible.church
SUMMARY:Men's Breakfast
DESCRIPTION:Join us for breakfast in the Kids Bldg with a discussion around the topic of serving – putting your faith into action. \n\n\n\nPlease register to attend here:
URL:https://tomballbible.church/event/mens-breakfast-13/
CATEGORIES:Featured
ATTACH;FMTTYPE=image/jpeg:https://tomballbible.church/wp-content/uploads/2024/02/mens-breakfastweb.jpg
END:VEVENT
END:VCALENDAR