BEGIN:VCALENDAR
VERSION:2.0
PRODID:-//Tomball Bible Church - ECPv6.15.20//NONSGML v1.0//EN
CALSCALE:GREGORIAN
METHOD:PUBLISH
X-WR-CALNAME:Tomball Bible Church
X-ORIGINAL-URL:https://tomballbible.church
X-WR-CALDESC:Events for Tomball Bible Church
REFRESH-INTERVAL;VALUE=DURATION:PT1H
X-Robots-Tag:noindex
X-PUBLISHED-TTL:PT1H
BEGIN:VTIMEZONE
TZID:America/Chicago
BEGIN:DAYLIGHT
TZOFFSETFROM:-0600
TZOFFSETTO:-0500
TZNAME:CDT
DTSTART:20240310T080000
END:DAYLIGHT
BEGIN:STANDARD
TZOFFSETFROM:-0500
TZOFFSETTO:-0600
TZNAME:CST
DTSTART:20241103T070000
END:STANDARD
BEGIN:DAYLIGHT
TZOFFSETFROM:-0600
TZOFFSETTO:-0500
TZNAME:CDT
DTSTART:20250309T080000
END:DAYLIGHT
BEGIN:STANDARD
TZOFFSETFROM:-0500
TZOFFSETTO:-0600
TZNAME:CST
DTSTART:20251102T070000
END:STANDARD
BEGIN:DAYLIGHT
TZOFFSETFROM:-0600
TZOFFSETTO:-0500
TZNAME:CDT
DTSTART:20260308T080000
END:DAYLIGHT
BEGIN:STANDARD
TZOFFSETFROM:-0500
TZOFFSETTO:-0600
TZNAME:CST
DTSTART:20261101T070000
END:STANDARD
END:VTIMEZONE
BEGIN:VEVENT
DTSTART;TZID=America/Chicago:20250601T180000
DTEND;TZID=America/Chicago:20250601T193000
DTSTAMP:20260421T034015
CREATED:20250428T211056Z
LAST-MODIFIED:20250428T211059Z
UID:10002512-1748800800-1748806200@tomballbible.church
SUMMARY:Congregational Meeting
DESCRIPTION:Our bi-annual Congregational Meeting\, where the 2025-2026 budget will be presented\, and ministry updates available. \n\n\n\nRegister for childcare through 4th grade available\, register for that here.
URL:https://tomballbible.church/event/congregational-meeting-7/
CATEGORIES:Featured
ATTACH;FMTTYPE=image/jpeg:https://tomballbible.church/wp-content/uploads/2025/04/WEB-congregatio.jpg
END:VEVENT
BEGIN:VEVENT
DTSTART;TZID=America/Chicago:20250619T120000
DTEND;TZID=America/Chicago:20250619T130000
DTSTAMP:20260421T034015
CREATED:20250318T153410Z
LAST-MODIFIED:20260407T162232Z
UID:10002496-1750334400-1750338000@tomballbible.church
SUMMARY:Prayer Gathering
DESCRIPTION:Join us for our monthly Prayer Gathering in the Student Center on the third Thursday of each month from 12-1pm.
URL:https://tomballbible.church/event/prayer-gathering-3/2025-06-19/
CATEGORIES:Featured
ATTACH;FMTTYPE=image/jpeg:https://tomballbible.church/wp-content/uploads/2024/04/Web.jpg
END:VEVENT
BEGIN:VEVENT
DTSTART;TZID=America/Chicago:20250621T050000
DTEND;TZID=America/Chicago:20250621T200000
DTSTAMP:20260421T034015
CREATED:20250603T202443Z
LAST-MODIFIED:20251016T150815Z
UID:10002716-1750482000-1750536000@tomballbible.church
SUMMARY:Oak Bend Connect
DESCRIPTION:Join us as we partner with Redeemer Church in connecting with the residents of Oak Bend Apartments. We’ll gather on the 3rd Saturday of the month from 5-8 pm to connect and interact with the families in the complex. If you have any questions\, or want to come out\, please contact us here.
URL:https://tomballbible.church/event/oak-bend-connect/2025-06-21/
CATEGORIES:Featured
ATTACH;FMTTYPE=image/jpeg:https://tomballbible.church/wp-content/uploads/2025/06/weboakbend.jpg
END:VEVENT
END:VCALENDAR